BEGIN:VCALENDAR
VERSION:2.0
PRODID:-//La Jolla Bar Association - ECPv6.15.20//NONSGML v1.0//EN
CALSCALE:GREGORIAN
METHOD:PUBLISH
X-WR-CALNAME:La Jolla Bar Association
X-ORIGINAL-URL:https://lajollabarassociation.com
X-WR-CALDESC:Events for La Jolla Bar Association
REFRESH-INTERVAL;VALUE=DURATION:PT1H
X-Robots-Tag:noindex
X-PUBLISHED-TTL:PT1H
BEGIN:VTIMEZONE
TZID:America/Los_Angeles
BEGIN:DAYLIGHT
TZOFFSETFROM:-0800
TZOFFSETTO:-0700
TZNAME:PDT
DTSTART:20120311T100000
END:DAYLIGHT
BEGIN:STANDARD
TZOFFSETFROM:-0700
TZOFFSETTO:-0800
TZNAME:PST
DTSTART:20121104T090000
END:STANDARD
BEGIN:DAYLIGHT
TZOFFSETFROM:-0800
TZOFFSETTO:-0700
TZNAME:PDT
DTSTART:20130310T100000
END:DAYLIGHT
BEGIN:STANDARD
TZOFFSETFROM:-0700
TZOFFSETTO:-0800
TZNAME:PST
DTSTART:20131103T090000
END:STANDARD
BEGIN:DAYLIGHT
TZOFFSETFROM:-0800
TZOFFSETTO:-0700
TZNAME:PDT
DTSTART:20140309T100000
END:DAYLIGHT
BEGIN:STANDARD
TZOFFSETFROM:-0700
TZOFFSETTO:-0800
TZNAME:PST
DTSTART:20141102T090000
END:STANDARD
BEGIN:DAYLIGHT
TZOFFSETFROM:-0800
TZOFFSETTO:-0700
TZNAME:PDT
DTSTART:20150308T100000
END:DAYLIGHT
BEGIN:STANDARD
TZOFFSETFROM:-0700
TZOFFSETTO:-0800
TZNAME:PST
DTSTART:20151101T090000
END:STANDARD
END:VTIMEZONE
BEGIN:VEVENT
DTSTART;TZID=America/Los_Angeles:20140924T120000
DTEND;TZID=America/Los_Angeles:20140924T133000
DTSTAMP:20260419T201304
CREATED:20140621T174231Z
LAST-MODIFIED:20140819T233609Z
UID:1993-1411560000-1411565400@lajollabarassociation.com
SUMMARY:September 24\, 2014 - Board Meeting
DESCRIPTION:
URL:https://lajollabarassociation.com/events/september-24-2014-board-meeting-2/
LOCATION:Blanchard Krasner & French Conferemce Room\, 800 Silverado St.\, La Jolla\, 92037
CATEGORIES:Meeting
END:VEVENT
BEGIN:VEVENT
DTSTART;TZID=America/Los_Angeles:20140918T120000
DTEND;TZID=America/Los_Angeles:20140918T133000
DTSTAMP:20260419T201304
CREATED:20140621T172113Z
LAST-MODIFIED:20140904T221042Z
UID:1990-1411041600-1411047000@lajollabarassociation.com
SUMMARY:MCLE Luncheon\, September 18\, 2014MCLE Luncheon\, Topic:  Strategic and Tactical Business and Legal Planning by Mark Fabiani\, Esq.\, General Counsel\, San Diego Chargers
DESCRIPTION:MARK FABIANI\, GENERAL COUNSEL\, SAN DIEGO CHARGERS \nAttorney Mark Fabiani has held a variety of high level positions in local and federal government and more recently in the private sector. \nMr. Fabiani joined the San Diego Chargers in 2002 to explore opportunities for a new Chargers football stadium.  His efforts continue to this day. \nHe and his firm\, Fabiani & Lehane\, provide strategic advice and tactical execution to companies and individuals facing complex financial\, marketing\, communications and legal challenges. \nIn 2000\, Mr. Fabiani served as deputy campaign manager for communications and strategy for Al Gore’s presidential campaign.  Before that\, from 1994-1996\, he served as special counsel for President Bill Clinton. \nMr. Fabiani also served as deputy mayor of Los Angeles and chief of staff to Mayor Tom Bradley for four years. \nUpon graduation from Harvard Law School\, Mr. Fabiani served as Deputy Attorney General for policy development\, and as deputy assistant secretary at the Department of Housing and Urban Development\, implementing the Empowerment Zone Initiative for Urban Revitalization. \nThe La Jolla Bar Association (LJBA)\, which is an approved MCLE provider\, holds monthly luncheons of its members on the second Thursday of each month\, except in August and December\, which are reserved for the LJBA Summer Beach Party and the LJBA Holiday Party\, respectively.  This month’s luncheon will be held on the third Thursday\, September 18\, 2014\, so as not to conflict with the State Bar Annual Meeting held September 11-14\, 2014\, at the Grand Hyatt San Diego. \nThe MCLE luncheons are currently held at Manhattan restaurant in the historic Empress Hotel on Fay Avenue in downtown La Jolla\, commencing at noon. \n\nMembers of the LJBA may attend at no cost\, other than the cost of lunch (which they are expected to purchase).\nNon-members may attend for a $20 charge plus the cost of their lunch.
URL:https://lajollabarassociation.com/events/template-mcle-luncheon-2/
LOCATION:Manhattan Restaurant at the Empress Hotel\, 7766 Fay Avenue\, La Jolla\, CA\, 92037\, United States
CATEGORIES:M.C.L.E.
END:VEVENT
BEGIN:VEVENT
DTSTART;TZID=America/Los_Angeles:20140801T043000
DTEND;TZID=America/Los_Angeles:20140801T193000
DTSTAMP:20260419T201304
CREATED:20140621T174922Z
LAST-MODIFIED:20140718T180119Z
UID:1994-1406867400-1406921400@lajollabarassociation.com
SUMMARY:August 1\, 2014 - LJBA Summer Beach Party
DESCRIPTION:LA JOLLA BAR ASSOCIATION SUMMER PARTY \nAgain this year\, our LJBA summer party will be a beach barbeque picnic at the La Jolla Beach and Tennis Club* on \nFriday\, August 1\, 2014\, beginning at 4:30 p.m. \n  \nWe will congregate at the far north end of the beach in front of the Club\, in the section marked “X.” \nTables will be set up and our location will be marked with a table sign. \n  \nLJBA will provide soft drinks\, wine\, beer\, ice\, hors d’oeuvres\, side dishes and dessert for all; \nand tables\, chairs\, charcoal\, barbeques\, etc. \n  \nYou are requested to bring a main course for you and your guest and children–meat\, fish \nor whatever entree you wish to barbeque; AND warm clothes for socializing after sunset and when \nthe weather has a habit of turning chilly and/or damp at the beach. \n  \nAttendance is limited to two adults per member (i.e.\,the member and one significant other)\, \nplus children and grandchildren of the member.  Advance reservations for all\, and payment of adult \nguest fees ($10.00 for each adult) are a must.  La Jolla Bar Association will cover the Beach Club \nfees for children up to 19 years of age. Reservations should be made by providing the names of you \n and your guest\, and the names and ages of any children\, together with the guest fee of $10.00 for \neach adult attending; and should be mailed to Virginia Gaburo at the following address: \n  \nVirginia H. Gaburo & Associates \n4370 La Jolla Village Drive\, Suite 980 \nSan Diego\, CA 92122 \nYour reservations and fees must be received no later than Friday\, July 25\, 2014. Please note that \npersons without reservations will not be admitted at the front gate. \nPlease mark your calendars\, and don’t miss this “must” event. We are all looking forward \nto a great day and evening with our fellow members — with fun\, sun\, sunset\, scrumptious food and \ngreat company! \n* Please call Virginia Gaburo at 858-546-0183 if you need directions or have any questions.
URL:https://lajollabarassociation.com/events/august-1-2014-ljba-summer-beach-party/
LOCATION:La Jolla Beach and Tennis Club\,  2000 Spindrift Dr.\, La Jolla\, 92037
END:VEVENT
BEGIN:VEVENT
DTSTART;TZID=America/Los_Angeles:20140710T120000
DTEND;TZID=America/Los_Angeles:20140710T133000
DTSTAMP:20260419T201304
CREATED:20140605T015326Z
LAST-MODIFIED:20140624T184147Z
UID:1981-1404993600-1404999000@lajollabarassociation.com
SUMMARY:July 10\, 2014 MCLE Luncheon\, Topic: Appellate Law\, by Robert H. Lynn\, Esq.
DESCRIPTION:The La Jolla Bar Association (LJBA)\, is an approved MCLE provider\, and holds monthly luncheons of its members on the second Thursday of each month\, except in August and December\, which are reserved for the LJBA Summer Beach Party and the LJBA Holiday Party\, respectively. \nThe MCLE luncheons are currently held at Manhattan restaurant in the historic Empress Hotel on Fay Avenue in downtown La Jolla\, commencing at noon. \n\nMembers of the LJBA may attend at no cost\, other than the cost of lunch (which they are expected to purchase).\nNon-members may attend for a $20 charge plus the cost of their lunch.\n\nThe July 10\, 2014 MCLE luncheon will feature a presentation by Robert H. Lynn\, who will talk about appeals and appellate issues. \nRobert H. Lynn has served the San Diego community for over 35 years. Mr. Lynn is an accomplished attorney and a longtime community activist\, having received a bachelor’s degree in journalism from the University of Kansas and a Juris Doctor from the California Western School of Law. Mr. Lynn has taught advanced legal writing as an Adjunct Professor at the Thomas Jefferson School of Law\, and has served as a Judge Pro Tem in the Small Claims Division of the San Diego Superior Court.  \nMr. Lynn’s practice focuses on appellate and trial litigation and general business and real estate law.  His appellate work has included Lawson v. Kolender before the U.S. Supreme Court\, a case involving the Due Process Clause of the Fourteenth Amendment and which is now taught in law schools across the country. Prior to attending law school\, Lynn served for seven years in the United State Navy.  During his legal career\, he has served on the board of directors for the American Civil Liberties Union of San Diego County\, the Greater San Diego Business Association\, the San Diego LGBT Community Center\, the California Human Rights Advocates and the Whitman-Radcliffe Foundation. \nMr. Lynn’s awards and recognition have included two Greater San Diego Business Awards\, a Tom Homann Law Association Service Award\, and recognition as a San Diego Lambda Archives “Heroes\, Pioneers and Trailblazers” Honoree. He is the founder of the San Diego Democratic Club and has worked with the San Diego County Health Services Advisory Board\, the United Way Program Review panel\, the San Diego Coalition for Human Rights\, and the Lawyer’s Club of San Diego. He currently sits on the Conference of Delegates of the State Bar of California Resolutions Committee\, and is an active member of the Tom Homann Law Association. \n 
URL:https://lajollabarassociation.com/events/mcle-luncheon-topic-appellate-law-by-robert-lynn/
LOCATION:Manhattan Restaurant at the Empress Hotel\, 7766 Fay Avenue\, La Jolla\, CA\, 92037\, United States
CATEGORIES:M.C.L.E.
END:VEVENT
BEGIN:VEVENT
DTSTART;TZID=America/Los_Angeles:20140621T120000
DTEND;TZID=America/Los_Angeles:20140621T133000
DTSTAMP:20260419T201304
CREATED:20140621T174133Z
LAST-MODIFIED:20140621T174133Z
UID:1991-1403352000-1403357400@lajollabarassociation.com
SUMMARY:June 25\, 2014 - Board Meeting
DESCRIPTION:
URL:https://lajollabarassociation.com/events/june-25-2014-board-meeting/
LOCATION:Blanchard Krasner & French Conferemce Room\, 800 Silverado St.\, La Jolla\, 92037
CATEGORIES:Meeting
END:VEVENT
BEGIN:VEVENT
DTSTART;TZID=America/Los_Angeles:20140612T120000
DTEND;TZID=America/Los_Angeles:20140612T133000
DTSTAMP:20260419T201304
CREATED:20140515T174112Z
LAST-MODIFIED:20140605T015532Z
UID:1942-1402574400-1402579800@lajollabarassociation.com
SUMMARY:June 12\, 2014 MCLE Luncheon: San Diego Water Authority\, by Daniel S. Hentschke
DESCRIPTION:The La Jolla Bar Association (LJBA)\, is an approved MCLE provider\, and holds monthly luncheons of its members on the second Thursday of each month\, except in August and December\, which are reserved for the LJBA Summer Beach Party and the LJBA Holiday Party\, respectively. \nThe MCLE luncheons are currently held at Manhattan restaurant in the historic Empress Hotel on Fay Avenue in downtown La Jolla\, commencing at noon. \n\nMembers of the LJBA may attend at no cost\, other than the cost of lunch (which they are expected to purchase).\nNon-members may attend for a $20 charge plus the cost of their lunch.
URL:https://lajollabarassociation.com/events/june-12-2014-mcle-luncheon-san-diego-water-authority-daniel-hentschke/
LOCATION:Manhattan Restaurant at the Empress Hotel\, 7766 Fay Avenue\, La Jolla\, CA\, 92037\, United States
END:VEVENT
BEGIN:VEVENT
DTSTART;TZID=America/Los_Angeles:20140508T120000
DTEND;TZID=America/Los_Angeles:20140508T133000
DTSTAMP:20260419T201304
CREATED:20140505T000041Z
LAST-MODIFIED:20140505T001131Z
UID:1935-1399550400-1399555800@lajollabarassociation.com
SUMMARY:MCLE Luncheon\, Topic: Substance Abuse\, by David Cameron Carr
DESCRIPTION:The La Jolla Bar Association (LJBA)\, is an approved MCLE provider\, and holds monthly luncheons of its members on the second Thursday of each month\, except in August and December\, which are reserved for the LJBA Summer Beach Party and the LJBA Holiday Party\, respectively. \nThe MCLE luncheons are currently held at Manhattan restaurant in the historic Empress Hotel on Fay Avenue in downtown La Jolla\, commencing at noon. \n\nMembers of the LJBA may attend at no cost\, other than the cost of lunch (which they are expected to purchase).\nNon-members may attend for a $20 charge plus the cost of their lunch.
URL:https://lajollabarassociation.com/events/mcle-luncheon-topic-substance-abuse-by-david-cameron-carr/
LOCATION:Manhattan Restaurant at the Empress Hotel\, 7766 Fay Avenue\, La Jolla\, CA\, 92037\, United States
END:VEVENT
BEGIN:VEVENT
DTSTART;TZID=America/Los_Angeles:20140213T120000
DTEND;TZID=America/Los_Angeles:20140213T133000
DTSTAMP:20260419T201304
CREATED:20130718T001724Z
LAST-MODIFIED:20130718T051819Z
UID:1230-1392292800-1392298200@lajollabarassociation.com
SUMMARY:MCLE Luncheon\, Topic: Recent U.S. Supreme Court Decisions and Action by ACLU re Privacy Issues (specific topic[s] to be determined)\,  by David Loy\, Esq.\, Legal Director\, American Civil Liberties Union\, San Diego and Imperial Counties
DESCRIPTION:The La Jolla Bar Association (LJBA)\, is an approved MCLE provider\, and holds monthly luncheons of its members on the second Thursday of each month\, except in August and December\, which are reserved for the LJBA Summer Beach Party and the LJBA Holiday Party\, respectively. \nThe MCLE luncheons are currently held at Manhattan restaurant in the historic Empress Hotel on Fay Avenue in downtown La Jolla\, commencing at noon. \n\nMembers of the LJBA may attend at no cost\, other than the cost of lunch (which they are expected to purchase).\nNon-members may attend for a $20 charge plus the cost of their lunch.
URL:https://lajollabarassociation.com/events/template-do-not-publish-or-delete-mcle-luncheon-title-teacher-4/
LOCATION:Manhattan Restaurant at the Empress Hotel\, 7766 Fay Avenue\, La Jolla\, CA\, 92037\, United States
CATEGORIES:Lunch,M.C.L.E.,Meeting,Seminar
ATTACH;FMTTYPE=image/jpeg:https://lajollabarassociation.com/wp-content/uploads/2013/07/US-Supreme-Court.jpg
END:VEVENT
BEGIN:VEVENT
DTSTART;TZID=America/Los_Angeles:20140109T120000
DTEND;TZID=America/Los_Angeles:20140109T133000
DTSTAMP:20260419T201304
CREATED:20130718T001520Z
LAST-MODIFIED:20130718T051711Z
UID:1229-1389268800-1389274200@lajollabarassociation.com
SUMMARY:MCLE Luncheon\, Topic: Update on California Employment Law (specific topic[s] to be determined)\, by Bibianne Fell\, Esq.
DESCRIPTION:The La Jolla Bar Association (LJBA)\, is an approved MCLE provider\, and holds monthly luncheons of its members on the second Thursday of each month\, except in August and December\, which are reserved for the LJBA Summer Beach Party and the LJBA Holiday Party\, respectively. \nThe MCLE luncheons are currently held at Manhattan restaurant in the historic Empress Hotel on Fay Avenue in downtown La Jolla\, commencing at noon. \n\nMembers of the LJBA may attend at no cost\, other than the cost of lunch (which they are expected to purchase).\nNon-members may attend for a $20 charge plus the cost of their lunch.
URL:https://lajollabarassociation.com/events/template-do-not-publish-or-delete-mcle-luncheon-title-teacher-3/
LOCATION:Manhattan Restaurant at the Empress Hotel\, 7766 Fay Avenue\, La Jolla\, CA\, 92037\, United States
CATEGORIES:Lunch,M.C.L.E.,Meeting,Seminar
ATTACH;FMTTYPE=image/jpeg:https://lajollabarassociation.com/wp-content/uploads/2013/07/Flag-of-California.jpg
END:VEVENT
BEGIN:VEVENT
DTSTART;TZID=America/Los_Angeles:20131114T120000
DTEND;TZID=America/Los_Angeles:20131114T133000
DTSTAMP:20260419T201304
CREATED:20130718T001241Z
LAST-MODIFIED:20130718T051422Z
UID:1226-1384430400-1384435800@lajollabarassociation.com
SUMMARY:MCLE Luncheon\, Topic: Developments in Elder Law and Elder Law Abuse (specific topic[s] to be determined)\, by Paul Greenwood\, Deputy District Attorney\, County of San Diego
DESCRIPTION:The La Jolla Bar Association (LJBA)\, is an approved MCLE provider\, and holds monthly luncheons of its members on the second Thursday of each month\, except in August and December\, which are reserved for the LJBA Summer Beach Party and the LJBA Holiday Party\, respectively. \nThe MCLE luncheons are currently held at Manhattan restaurant in the historic Empress Hotel on Fay Avenue in downtown La Jolla\, commencing at noon. \n\nMembers of the LJBA may attend at no cost\, other than the cost of lunch (which they are expected to purchase).\nNon-members may attend for a $20 charge plus the cost of their lunch.
URL:https://lajollabarassociation.com/events/mcle-luncheon-topic-developments-in-elder-law-and-elder-law-abuse-specific-topics-to-be-determined-by-paul-greenwood-deputy-district-attorney-county-of-san-diego/
LOCATION:Manhattan Restaurant at the Empress Hotel\, 7766 Fay Avenue\, La Jolla\, CA\, 92037\, United States
CATEGORIES:Lunch,M.C.L.E.,Meeting,Seminar
ATTACH;FMTTYPE=image/jpeg:https://lajollabarassociation.com/wp-content/uploads/2013/07/Frail_Elder600px.jpg
END:VEVENT
BEGIN:VEVENT
DTSTART;TZID=America/Los_Angeles:20131010T120000
DTEND;TZID=America/Los_Angeles:20131010T133000
DTSTAMP:20260419T201304
CREATED:20130718T000525Z
LAST-MODIFIED:20130718T050809Z
UID:1223-1381406400-1381411800@lajollabarassociation.com
SUMMARY:MCLE Luncheon\, Topic: Recent U.S. Supreme Court Opinions (specific topic[s] to be determined)\, by Professor Miranda McGowan\, Esq.\, University of San Diego School of Law
DESCRIPTION:The La Jolla Bar Association (LJBA)\, is an approved MCLE provider\, and holds monthly luncheons of its members on the second Thursday of each month\, except in August and December\, which are reserved for the LJBA Summer Beach Party and the LJBA Holiday Party\, respectively. \nThe MCLE luncheons are currently held at Manhattan restaurant in the historic Empress Hotel on Fay Avenue in downtown La Jolla\, commencing at noon. \n\nMembers of the LJBA may attend at no cost\, other than the cost of lunch (which they are expected to purchase).\nNon-members may attend for a $20 charge plus the cost of their lunch.
URL:https://lajollabarassociation.com/events/mcle-luncheon-topic-recent-u-s-supreme-court-opinions-specific-topics-to-be-determined-by-professor-miranda-mcgowan-esq-university-of-san-diego-school-of-law/
LOCATION:Manhattan Restaurant at the Empress Hotel\, 7766 Fay Avenue\, La Jolla\, CA\, 92037\, United States
CATEGORIES:Lunch,M.C.L.E.,Meeting,Seminar
ATTACH;FMTTYPE=image/jpeg:https://lajollabarassociation.com/wp-content/uploads/2013/07/US-Supreme-Court.jpg
END:VEVENT
BEGIN:VEVENT
DTSTART;TZID=America/Los_Angeles:20130912T120000
DTEND;TZID=America/Los_Angeles:20130912T133000
DTSTAMP:20260419T201304
CREATED:20130717T193835Z
LAST-MODIFIED:20130718T043947Z
UID:1216-1378987200-1378992600@lajollabarassociation.com
SUMMARY:MCLE Luncheon\, Topic: Intellectual Property\, Trademarks\, Copyrights and Licensing (specific topic[s] to be determined)\, by Don Rosenberg\, Esq.\, General Counsel\, Qualcomm
DESCRIPTION:The La Jolla Bar Association (LJBA)\, is an approved MCLE provider\, and holds monthly luncheons of its members on the second Thursday of each month\, except in August and December\, which are reserved for the LJBA Summer Beach Party and the LJBA Holiday Party\, respectively. \nThe MCLE luncheons are currently held at Manhattan restaurant in the historic Empress Hotel on Fay Avenue in downtown La Jolla\, commencing at noon. \n\nMembers of the LJBA may attend at no cost\, other than the cost of lunch (which they are expected to purchase).\nNon-members may attend for a $20 charge plus the cost of their lunch.
URL:https://lajollabarassociation.com/events/mcle-luncheon-topic-recent-state-bar-ethics-opinions-and-developments-in-the-area-of-professional-responsibility-by-ellen-r-peck-esq/
LOCATION:Manhattan Restaurant at the Empress Hotel\, 7766 Fay Avenue\, La Jolla\, CA\, 92037\, United States
CATEGORIES:Lunch,M.C.L.E.,Meeting,Seminar
ATTACH;FMTTYPE=image/jpeg:https://lajollabarassociation.com/wp-content/uploads/2013/07/Registered-TM-scaled.jpg
END:VEVENT
BEGIN:VEVENT
DTSTART;TZID=America/Los_Angeles:20130613T000000
DTEND;TZID=America/Los_Angeles:20130613T133000
DTSTAMP:20260419T201304
CREATED:20130717T193154Z
LAST-MODIFIED:20130718T003736Z
UID:1214-1371081600-1371130200@lajollabarassociation.com
SUMMARY:MCLE Luncheon\, Topic: Consumer Litigation – Consumer Protection Statutes and 	Bankruptcy\, by Karen Spicker\, Esq.
DESCRIPTION:The La Jolla Bar Association (LJBA)\, is an approved MCLE provider\, and holds monthly luncheons of its members on the second Thursday of each month\, except in August and December\, which are reserved for the LJBA Summer Beach Party and the LJBA Holiday Party\, respectively. \nThe MCLE luncheons are currently held at Manhattan restaurant in the historic Empress Hotel on Fay Avenue in downtown La Jolla\, commencing at noon. \n\nMembers of the LJBA may attend at no cost\, other than the cost of lunch (which they are expected to purchase).\nNon-members may attend for a $20 charge plus the cost of their lunch.
URL:https://lajollabarassociation.com/events/mcle-luncheon-topic-consumer-litigation-consumer-protection-statutes-and-bankruptcy-by-karen-spicker-esq/
LOCATION:Manhattan Restaurant at the Empress Hotel\, 7766 Fay Avenue\, La Jolla\, CA\, 92037\, United States
CATEGORIES:Lunch,M.C.L.E.,Meeting,Seminar
ATTACH;FMTTYPE=image/jpeg:https://lajollabarassociation.com/wp-content/uploads/2013/07/Caution-Protection-Required.jpg
END:VEVENT
BEGIN:VEVENT
DTSTART;TZID=America/Los_Angeles:20130509T000000
DTEND;TZID=America/Los_Angeles:20130509T133000
DTSTAMP:20260419T201304
CREATED:20130717T192438Z
LAST-MODIFIED:20130718T003050Z
UID:1208-1368057600-1368106200@lajollabarassociation.com
SUMMARY:MCLE Luncheon\, Topic: IRS Audit\, Foreign Account Reporting and Other Tax Matters\, by John Milikowsky\, Esq.
DESCRIPTION:The La Jolla Bar Association (LJBA)\, is an approved MCLE provider\, and holds monthly luncheons of its members on the second Thursday of each month\, except in August and December\, which are reserved for the LJBA Summer Beach Party and the LJBA Holiday Party\, respectively. \nThe MCLE luncheons are currently held at Manhattan restaurant in the historic Empress Hotel on Fay Avenue in downtown La Jolla\, commencing at noon. \n\nMembers of the LJBA may attend at no cost\, other than the cost of lunch (which they are expected to purchase).\nNon-members may attend for a $20 charge plus the cost of their lunch.
URL:https://lajollabarassociation.com/events/mcle-luncheon-topic-irs-audit-foreign-account-reporting-and-other-tax-matters-by-john-milikowsky-esq/
LOCATION:Manhattan Restaurant at the Empress Hotel\, 7766 Fay Avenue\, La Jolla\, CA\, 92037\, United States
CATEGORIES:Lunch,M.C.L.E.,Meeting,Seminar
ATTACH;FMTTYPE=image/jpeg:https://lajollabarassociation.com/wp-content/uploads/2013/07/IRS-Audit.jpg
END:VEVENT
BEGIN:VEVENT
DTSTART;TZID=America/Los_Angeles:20130410T120000
DTEND;TZID=America/Los_Angeles:20130410T133000
DTSTAMP:20260419T201304
CREATED:20130717T182656Z
LAST-MODIFIED:20130718T002400Z
UID:1202-1365595200-1365600600@lajollabarassociation.com
SUMMARY:MCLE Luncheon\, Topic: Asset Protection and Advanced Tax Planning\, by Jacob Stein\, Esq.
DESCRIPTION:The La Jolla Bar Association (LJBA)\, is an approved MCLE provider\, and holds monthly luncheons of its members on the second Thursday of each month\, except in August and December\, which are reserved for the LJBA Summer Beach Party and the LJBA Holiday Party\, respectively. \nThe MCLE luncheons are currently held at Manhattan restaurant in the historic Empress Hotel on Fay Avenue in downtown La Jolla\, commencing at noon. \n\nMembers of the LJBA may attend at no cost\, other than the cost of lunch (which they are expected to purchase).\nNon-members may attend for a $20 charge plus the cost of their lunch.
URL:https://lajollabarassociation.com/events/mcle-luncheon-topic-asset-protection-and-advanced-tax-planning-by-jacob-stein-esq/
LOCATION:Manhattan Restaurant at the Empress Hotel\, 7766 Fay Avenue\, La Jolla\, CA\, 92037\, United States
CATEGORIES:Lunch,M.C.L.E.,Meeting,Seminar
ATTACH;FMTTYPE=image/jpeg:https://lajollabarassociation.com/wp-content/uploads/2013/04/JacobStein.jpg
END:VEVENT
BEGIN:VEVENT
DTSTART;TZID=America/Los_Angeles:20130314T000000
DTEND;TZID=America/Los_Angeles:20130314T150000
DTSTAMP:20260419T201304
CREATED:20130717T184846Z
LAST-MODIFIED:20130718T002728Z
UID:1205-1363219200-1363273200@lajollabarassociation.com
SUMMARY:MCLE Luncheon\, Topic: Bankruptcy\, Alternatives to Bankruptcy\, and the Role of Fiduciaries\, by Richard Kipperman\, Trustee
DESCRIPTION:The La Jolla Bar Association (LJBA)\, is an approved MCLE provider\, and holds monthly luncheons of its members on the second Thursday of each month\, except in August and December\, which are reserved for the LJBA Summer Beach Party and the LJBA Holiday Party\, respectively. \nThe MCLE luncheons are currently held at Manhattan restaurant in the historic Empress Hotel on Fay Avenue in downtown La Jolla\, commencing at noon. \n\nMembers of the LJBA may attend at no cost\, other than the cost of lunch (which they are expected to purchase).\nNon-members may attend for a $20 charge plus the cost of their lunch.
URL:https://lajollabarassociation.com/events/mcle-luncheon-topic-bankruptcy-alternatives-to-bankruptcy-and-the-role-of-fiduciaries-by-richard-kipperman-trustee/
LOCATION:Manhattan Restaurant at the Empress Hotel\, 7766 Fay Avenue\, La Jolla\, CA\, 92037\, United States
CATEGORIES:Lunch,M.C.L.E.,Meeting,Seminar
ATTACH;FMTTYPE=image/jpeg:https://lajollabarassociation.com/wp-content/uploads/2013/07/Bankruptcy.jpg
END:VEVENT
BEGIN:VEVENT
DTSTART;TZID=America/Los_Angeles:20130214T120000
DTEND;TZID=America/Los_Angeles:20130214T133000
DTSTAMP:20260419T201304
CREATED:20130717T232216Z
LAST-MODIFIED:20130718T002415Z
UID:1199-1360843200-1360848600@lajollabarassociation.com
SUMMARY:MCLE Luncheon\, Topic: Employment Laws for California Attorneys\, by Bibianne Fell\, Esq.
DESCRIPTION:The La Jolla Bar Association (LJBA)\, is an approved MCLE provider\, and holds monthly luncheons of its members on the second Thursday of each month\, except in August and December\, which are reserved for the LJBA Summer Beach Party and the LJBA Holiday Party\, respectively. \nThe MCLE luncheons are currently held at Manhattan restaurant in the historic Empress Hotel on Fay Avenue in downtown La Jolla\, commencing at noon. \n\nMembers of the LJBA may attend at no cost\, other than the cost of lunch (which they are expected to purchase).\nNon-members may attend for a $20 charge plus the cost of their lunch.
URL:https://lajollabarassociation.com/events/mcle-luncheon-topic-employment-laws-for-california-attorneys-by-bibianne-fell-esq/
LOCATION:Manhattan Restaurant at the Empress Hotel\, 7766 Fay Avenue\, La Jolla\, CA\, 92037\, United States
CATEGORIES:Lunch,M.C.L.E.,Meeting,Seminar
ATTACH;FMTTYPE=image/jpeg:https://lajollabarassociation.com/wp-content/uploads/2013/07/Flag-of-California.jpg
END:VEVENT
BEGIN:VEVENT
DTSTART;TZID=America/Los_Angeles:20130110T120000
DTEND;TZID=America/Los_Angeles:20130110T150000
DTSTAMP:20260419T201304
CREATED:20130717T182721Z
LAST-MODIFIED:20130718T002423Z
UID:1203-1357819200-1357830000@lajollabarassociation.com
SUMMARY:MCLE Luncheon\, Topic: What’s New with DUI’s\, by Paul Neuharth\, Esq.
DESCRIPTION:The La Jolla Bar Association (LJBA)\, is an approved MCLE provider\, and holds monthly luncheons of its members on the second Thursday of each month\, except in August and December\, which are reserved for the LJBA Summer Beach Party and the LJBA Holiday Party\, respectively. \nThe MCLE luncheons are currently held at Manhattan restaurant in the historic Empress Hotel on Fay Avenue in downtown La Jolla\, commencing at noon. \n\nMembers of the LJBA may attend at no cost\, other than the cost of lunch (which they are expected to purchase).\nNon-members may attend for a $20 charge plus the cost of their lunch.
URL:https://lajollabarassociation.com/events/mcle-luncheon-topic-whats-new-with-duis-by-paul-neuharth-esq/
LOCATION:Manhattan Restaurant at the Empress Hotel\, 7766 Fay Avenue\, La Jolla\, CA\, 92037\, United States
CATEGORIES:Lunch,M.C.L.E.,Meeting,Seminar
ATTACH;FMTTYPE=image/jpeg:https://lajollabarassociation.com/wp-content/uploads/2013/07/DUI.jpg
END:VEVENT
END:VCALENDAR