BEGIN:VCALENDAR
VERSION:2.0
PRODID:-//La Jolla Bar Association - ECPv6.15.20//NONSGML v1.0//EN
CALSCALE:GREGORIAN
METHOD:PUBLISH
X-WR-CALNAME:La Jolla Bar Association
X-ORIGINAL-URL:https://lajollabarassociation.com
X-WR-CALDESC:Events for La Jolla Bar Association
REFRESH-INTERVAL;VALUE=DURATION:PT1H
X-Robots-Tag:noindex
X-PUBLISHED-TTL:PT1H
BEGIN:VTIMEZONE
TZID:America/Los_Angeles
BEGIN:DAYLIGHT
TZOFFSETFROM:-0800
TZOFFSETTO:-0700
TZNAME:PDT
DTSTART:20250309T100000
END:DAYLIGHT
BEGIN:STANDARD
TZOFFSETFROM:-0700
TZOFFSETTO:-0800
TZNAME:PST
DTSTART:20251102T090000
END:STANDARD
BEGIN:DAYLIGHT
TZOFFSETFROM:-0800
TZOFFSETTO:-0700
TZNAME:PDT
DTSTART:20260308T100000
END:DAYLIGHT
BEGIN:STANDARD
TZOFFSETFROM:-0700
TZOFFSETTO:-0800
TZNAME:PST
DTSTART:20261101T090000
END:STANDARD
BEGIN:DAYLIGHT
TZOFFSETFROM:-0800
TZOFFSETTO:-0700
TZNAME:PDT
DTSTART:20270314T100000
END:DAYLIGHT
BEGIN:STANDARD
TZOFFSETFROM:-0700
TZOFFSETTO:-0800
TZNAME:PST
DTSTART:20271107T090000
END:STANDARD
END:VTIMEZONE
BEGIN:VEVENT
DTSTART;TZID=America/Los_Angeles:20260312T120000
DTEND;TZID=America/Los_Angeles:20260312T130000
DTSTAMP:20260424T085535
CREATED:20260225T004249Z
LAST-MODIFIED:20260323T214722Z
UID:7690-1773316800-1773320400@lajollabarassociation.com
SUMMARY:March 2026 MCLE Luncheon with Monty A. McIntyre\, Esq.
DESCRIPTION:Please calendar our upcoming MCLE lunchtime program on Thursday\, March 12\, 2026 at 12:00pm\, at the Living Room Coffeehouse & Bistro\, 1205 Prospect Street in La Jolla. \nWe are very pleased to have Attorney\, Mediator\, Arbitrator & Referee\, Monty A. McIntyre\, Esq.\, providing an update to our our members on “Important New Civil Cases Published in 2025.” \nCalifornia courts publish several hundred new civil cases each year\, with many containing important developments in California law. In his presentation to our members\, Mr. McIntyre will discuss important new civil cases published by California courts in 2025\, and will highlight significant developments addressed in those cases. \nOur bar association members have enjoyed the benefit of having Mr. McIntyre provide these annual updates in recent years. We appreciate his willingness to again share his knowledge and expertise with our members. \nThis presentation will provide 1.0 hour general MCLE credit\, and we hope that all of you will participate in this program. \n  \nSome Information about our Speaker\, Monty A. McIntyre:\nMonty A. McIntyre\, Esq.\nMediator\, Arbitrator & Referee at ADR Services\, Inc.\nCivil Trial Lawyer \nHelping California Attorneys Get Excellent Results\nMediator\, Arbitrator & Referee at ADR Services\, Inc.\nEmployment (PAGA\, Wage and Hour\, Wrongful Termination\, FEHA\, etc.)\nTorts (Elder Abuse\, Legal Malpractice\, Medical Malpractice\,\nPersonal Injury\, Wrongful Death\, etc.)\nReal Property (Easements\, Purchase and Sales\, Landlord-Tenant\, etc.)\nBusiness & Commercial\, Insurance (Coverage\, Bad Faith\, UIM)\nProbate (Trust & Estates) \nPublisher: California Case Summaries™\nPodcast Host: Trial Alchemy \n \nAs a mediator\, arbitrator and referee Monty McIntyre is always well prepared for every hearing. As a mediator\, he relentlessly pursues closure\, brings a calm and patient demeanor that helps parties navigate difficult emotional issues\, and has a unique ability to simplify complex issues and build consensus based upon his extensive experience as a trial lawyer and neutral. As an arbitrator and referee\, Monty provides a relaxed environment for the presentation of cases or issues\, carefully reviews all admitted evidence\, deliberates thoroughly and issues fair and impartial decisions. \nOne attorney said this about Monty as a mediator: “Mr. McIntyre ranks among the best of the scores of mediators I’ve used over the years. He is a ‘quick read’ and was well prepared. A good mediator is an attentive and perceptive listener. With the knowledge he gleaned and his understanding of the issues\, Mr. McIntyre worked closely with the parties to craft a creative solution to what would otherwise have been expensive and protracted litigation.” \nMonty has conducted over 1\,000 mediations and other hearings. He handles cases in the following areas: Employment (PAGA\, Wage and Hour\, Wrongful Termination\, FEHA\, etc.)\, Torts (Personal Injury\, Elder Abuse\, Legal Malpractice\, Medical Malpractice\, Wrongful Death\, etc.)\, Business and Commercial\, Insurance (Coverage\, Bad Faith\, UIM)\, Real Property (Easements\, Purchase and Sales\, Landlord-Tenant)\, and Probate (Trusts & Estates) \nMonty hosts the monthly podcast Trial Alchemy™ and interviews outstanding plaintiff lawyers\, defense lawyers\, and trial judges who are members of the American Board of Trial Advocates and discusses what works\, and what doesn’t work\, in civil jury trials. Trial Alchemy™ is available on Spotify\, Apple Podcasts\, and YouTube. Trial Alchemy™ is an excellent resource for all civil trial lawyers\, whether they’ve tried many cases or just a few cases. \nMonty tracks new California civil case law and helps California attorneys and law firms win more cases by always knowing the new case law in their practice areas with his publication California Case Summaries™ which provides unique one-paragraph summaries\, organized by legal topic\, of every new civil case published in California throughout the year. \nSince 1980\, Monty has earned the respect of both the courts and legal colleagues for his intelligence\, creativity\, hard work\, excellent legal representation of his clients (both plaintiffs and defendants)\, and his civility and integrity. Throughout his career Monty has consistently served the legal community\, including\, but not limited to\, his service as the President of the San Diego County Bar Association\, President of the San Diego Chapter of the American Board of Advocates\, member of the National ABOTA Board of Directors\, member of the ABA House of Delegates\, member of the ABA Standing Committee on Judicial Independence\, and member of the Executive Council of the National Conference of Bar Presidents. \nMonty McIntyre looks forward to helping you and your clients as a mediator\, arbitrator and referee at ADR Services\, Inc.\, as the publisher of California Case Summaries™\, and as the host of the Trial Alchemy™ podcast. \nCalifornia Case Summaries™\nOne-paragraph summaries\, that can be read in 2 minutes and are organized by legal topic\, of every new CA civil l… \nSubject Matter Expertise \nMr. McIntyre has the unique experience of having handled significant numbers of both plaintiff and defense business\, commercial\, insurance bad faith\, medical malpractice\, personal injury and real property cases. He has extensive subject matter expertise in each of these areas. He has also handled employment cases and has subject matter expertise in this area as well. Mr. McIntyre also has extensive knowledge of California evidence and economic damage issues. \nCivil Trial Experience \nExtensive civil trial experience since 1980 representing both plaintiffs and defendants in a wide variety of business\, insurance\, real property and tort cases. Mr. McIntyre has tried to conclusion more than 100 cases including numerous civil jury trials. His last three state court jury verdicts were unanimous 12-0 decisions in favor of his clients. Over $50 million recovered in verdicts or settlements for plaintiff clients. Numerous defense verdicts or favorable settlements for defendant clients. Mr. McIntyre brings to the table extensive litigation expertise in civil procedure\, evidence and trial practice. He was admitted into ABOTA in 1995 and served as the 2014 President of San Diego Chapter of ABOTA. \n\n2013 to present: Law Office of Monty A. McIntyre\n2001-2012: Shareholder\, Seltzer Caplan McMahon Vitek\n1990-2000: Partner\, McIntyre & McIntyre and Thompson & McIntyre\n1985-1990: Partner\, Lowell Robbin Hamilton & McIntyre\n1980-1984: Associate\, McInnis\, Fitzgerald\, Rees\, Sharkey & McIntyre; and Sparber\, Haas & Ferguson\n\n  \nEducation \n\n2020: Facilitating Dynamic Online Meetings and Groups During COVID-19. Straus Institute for Dispute Resolution at Pepperdine SOL
URL:https://lajollabarassociation.com/events/thursday-march-12-2026-mcle-luncheon-with-monty-a-mcintyre-esq/
LOCATION:Living Room Coffeehouse & Bistro\, 1205 Prospect Street\, La Jolla\, CA\, 92037\, United States
CATEGORIES:Lunch,M.C.L.E.,Past
ATTACH;FMTTYPE=image/png:https://lajollabarassociation.com/wp-content/uploads/2026/02/MontyMcIntyre.png
END:VEVENT
BEGIN:VEVENT
DTSTART;TZID=America/Los_Angeles:20260409T120000
DTEND;TZID=America/Los_Angeles:20260409T130000
DTSTAMP:20260424T085535
CREATED:20260323T220748Z
LAST-MODIFIED:20260422T175404Z
UID:7744-1775736000-1775739600@lajollabarassociation.com
SUMMARY:April 2026 MCLE Luncheon with John W. Hanson
DESCRIPTION:Please calendar our upcoming MCLE lunchtime program on Thursday\, April 9\, 2026 at 12:00pm\, at the Living Room Coffeehouse & Bistro\, 1205 Prospect Street in La Jolla. \nWe are very pleased to have attorney John W. Hanson as our April speaker. Mr. Hanson is a longstanding member of our association\, and practices exclusively in the area of consumer law. \nOur speaker will draw upon his 25+ years experience representing clients in litigation with car dealerships and car warranty providers\, in presenting to our members  “Consumer Law: Car Sales and Warranty Repairs\,” in which he will focus on consumer protection laws and the practice of consumer law in two areas: (1) consumer manipulation and abusive tactics by dealerships during car purchase transactions; and (2) automobile defects and the remedies and limitations of California’s lemon law.  Mr. Hanson will also discuss how attorneys can assist their clients (and themselves) on how to save thousands of dollars and avoid becoming victim to both car sales practices and warranty company “run-arounds.” \nMr. Hanson last presented on these topics to our members during 2019\,  in a very informative and well-received program.  Since that time\, important statutory changes and case law developments have taken place which our speaker will discuss.  Mr. Hanson will also cover new information pertinent to navigating through landmines and traps that commonly present in car purchase transactions by consumers. \nWe appreciate Mr. Hanson’s willingness to again share his knowledge and expertise on these topics with our members through this updated presentation. \nThis presentation will provide 1.0 hour general MCLE credit\, and we hope that all of you will participate in this program. \n  \nSome Information about our Speaker\, John W. Hanson:\nJOHN W. HANSON\nTHE HANSON LAW FIRM\n7752 Fay Ave.\, Suite F\nLa Jolla\, CA 92037\nToll Free: 1.877.297.3372\nPhone: 858.451.0291\nFax: 858.451.0281\nE-Mail: contact@thesandiegolemonlawyer.com \nJohn W. Hanson\, B.A.\, J.D.\, LL.M.\, practices exclusively in the area of consumer law\, with a focus on the lemon law and car dealer fraud. \nMr. Hanson received J.D. and B.A. degrees from the University of Iowa\, and an LL.M. from the University of London. After graduating from law school in 1996\, Mr. Hanson clerked for an Iowa Supreme Court Justice\, and subsequently clerked for the Iowa Federal District Court. After moving to California\, Mr. Hanson served as law clerk for the Honorable Nita L. Stormes\, Magistrate Judge\, United States District Court for the Southern District of California. \nMr. Hanson began his consumer law practice at a firm started by one of “Nader’s Raiders\,” and established his own consumer-law practice more than fifteen years ago. In addition to his law practice\, Mr. Hanson gives presentations on consumer law to public and professional groups\, and he teaches a course on consumer law at Miramar College. \nFor additional information\, please visit Mr. Hanson’s website:\nThe San Diego Lemon Lawyer \n  \n 
URL:https://lajollabarassociation.com/events/april-2026-mcle-luncheon-with-john-w-hanson/
LOCATION:Living Room Coffeehouse & Bistro\, 1205 Prospect Street\, La Jolla\, CA\, 92037\, United States
CATEGORIES:Lunch,M.C.L.E.,Past,Zoom Video Online
ATTACH;FMTTYPE=image/jpeg:https://lajollabarassociation.com/wp-content/uploads/2018/04/JLBA-Member-Hanson-e1774306372226.jpg
END:VEVENT
END:VCALENDAR