BEGIN:VCALENDAR
VERSION:2.0
PRODID:-//La Jolla Bar Association - ECPv6.15.20//NONSGML v1.0//EN
CALSCALE:GREGORIAN
METHOD:PUBLISH
X-WR-CALNAME:La Jolla Bar Association
X-ORIGINAL-URL:https://lajollabarassociation.com
X-WR-CALDESC:Events for La Jolla Bar Association
REFRESH-INTERVAL;VALUE=DURATION:PT1H
X-Robots-Tag:noindex
X-PUBLISHED-TTL:PT1H
BEGIN:VTIMEZONE
TZID:America/Los_Angeles
BEGIN:DAYLIGHT
TZOFFSETFROM:-0800
TZOFFSETTO:-0700
TZNAME:PDT
DTSTART:20240310T100000
END:DAYLIGHT
BEGIN:STANDARD
TZOFFSETFROM:-0700
TZOFFSETTO:-0800
TZNAME:PST
DTSTART:20241103T090000
END:STANDARD
BEGIN:DAYLIGHT
TZOFFSETFROM:-0800
TZOFFSETTO:-0700
TZNAME:PDT
DTSTART:20250309T100000
END:DAYLIGHT
BEGIN:STANDARD
TZOFFSETFROM:-0700
TZOFFSETTO:-0800
TZNAME:PST
DTSTART:20251102T090000
END:STANDARD
BEGIN:DAYLIGHT
TZOFFSETFROM:-0800
TZOFFSETTO:-0700
TZNAME:PDT
DTSTART:20260308T100000
END:DAYLIGHT
BEGIN:STANDARD
TZOFFSETFROM:-0700
TZOFFSETTO:-0800
TZNAME:PST
DTSTART:20261101T090000
END:STANDARD
END:VTIMEZONE
BEGIN:VEVENT
DTSTART;TZID=America/Los_Angeles:20250109T130000
DTEND;TZID=America/Los_Angeles:20250109T140000
DTSTAMP:20260419T081144
CREATED:20251216T200512Z
LAST-MODIFIED:20250630T184700Z
UID:7189-1736427600-1736431200@lajollabarassociation.com
SUMMARY:Thursday\, January 9\, 2025 — MCLE Luncheon — Megan Moore
DESCRIPTION:We are very pleased to have as our January speaker\, attorney MEGAN MOORE\, of Megan Moore\, Inc.\, who will present the program “ Competency & Attorney Wellbeing: Tools to Make Good Choices and Manage Your Time.”  \nThis program is certain to be both interesting and informative for our members\, given our speaker’s extensive experience with\, and knowledge of the subject matter of her presentation.  \n\n\nThis program will provide 1.0 hr SPECIAL MCLE – COMPETENCY (WELLNESS) participatory credit for attendees. \n\nNote: While this will be an “in-person” presentation\, those of you unable to attend in-person may participate through Zoom meeting access with an advanced registration. \n  \nSome Information about our Speaker:\nMegan Moore \nOur speaker is a Risk Taker\, Coach\, Attorney\, Educator\, Writer\, Inspirer\, and Catalyst for Change.  \nMegan Moore attended the University of Florida\, graduating with a Bachelor of Arts (Honors) in English; a minor in Secondary Education; and which she supplemented with courses in both theater and public speaking. \nFollowing graduation\, Megan spent 3 years in Ponce\, Puerto Rico\, where she taught Drama\, Public Speaking\, and English Literature at the Caribbean School.   She then relocated to San Diego\, California\, where she entered the corporate world\, working with start-up Edvision Corporation.  Advancing through its management team\, Megan spent 4 years overseeing creation of the company’s reading and language arts curriculum\, and the development of its assessment tools.    \nDesiring to expand her knowledge and opportunities beyond the corporate world\, Megan headed to law school\, attending the University of the Pacific\, McGeorge School of Law.  At McGeorge\,   she earned numerous awards and scholarships; and graduated (2008)\, with Great Distinction\, and Order of the Coif. \nMegan then returned to San Diego\, where she practiced law at Best\, Best & Krieger\, LLP (2008-2012).  During 2012\, she affiliated with the firm Young\, Minney & Corr\, LLP\, opening its flagship San Diego office\, and and became a partner at that firm in 2017. \nThereafter\, Megan launched The Law Offices of Megan M. Moore\, where she continued representing her public school clients. After two successful years in solo practice\, Megan decided to pivot into a career where she could use her listening\, advocacy\, and education skills to inspire growth and change in others. \nMegan earned her professional coaching certification from McLaren Coaching in January 2021\, while simultaneously launching Megan Moore\, Inc. \nMegan now primarily devotes her talents and abilities to helping attorneys and law firms build their professional skills; improve their communication and connection with their firm’s teams and/or staff; improving time management and accountability for results; counseling and teaching attorneys and their teams the art of building business relationships that go beyond the formal work relationship\, so that they become strong personal relationships as well.  Additionally\, Megan offers feedback and critique to professionals regarding their own presentations\, workshops\, or new services that they are preparing to launch. \nThroughout her assistance of professionals\, Megan maintains focus on attorneys’ ongoing need to control and balance between work and personal life; and to create greater harmony in their lives without jeopardizing their careers. \nMegan Moore is the Chair of the San Diego County Bar Association’s Leadership Academy\, and a regular speaker for legal and educational organizations\, including the San Diego County Bar Association\, Lawyers Club of San Diego\, KIPP SoCal\, Total Education Solutions\, University of the Pacific McGeorge School of Law\, and the Desert Bar Association.  \nShe strives to bring humor\, vulnerability\, and frankness to her presentations\, so that audiences of all sizes will be interested and engaged. \nFor more information about our speaker\, please view her website at:\nMegan Moore Inc.
URL:https://lajollabarassociation.com/events/thursday-january-9-2024-mcle-luncheon-megan-moore/
LOCATION:Living Room Coffeehouse & Bistro\, 1205 Prospect Street\, La Jolla\, CA\, 92037\, United States
CATEGORIES:Lunch,M.C.L.E.,Past,Zoom Video Online
ATTACH;FMTTYPE=image/jpeg:https://lajollabarassociation.com/wp-content/uploads/2024/12/Megan-Moore-800x1000-1.jpeg
END:VEVENT
END:VCALENDAR