BEGIN:VCALENDAR
VERSION:2.0
PRODID:-//La Jolla Bar Association - ECPv6.15.20//NONSGML v1.0//EN
CALSCALE:GREGORIAN
METHOD:PUBLISH
X-ORIGINAL-URL:https://lajollabarassociation.com
X-WR-CALDESC:Events for La Jolla Bar Association
REFRESH-INTERVAL;VALUE=DURATION:PT1H
X-Robots-Tag:noindex
X-PUBLISHED-TTL:PT1H
BEGIN:VTIMEZONE
TZID:America/Los_Angeles
BEGIN:DAYLIGHT
TZOFFSETFROM:-0800
TZOFFSETTO:-0700
TZNAME:PDT
DTSTART:20230312T100000
END:DAYLIGHT
BEGIN:STANDARD
TZOFFSETFROM:-0700
TZOFFSETTO:-0800
TZNAME:PST
DTSTART:20231105T090000
END:STANDARD
BEGIN:DAYLIGHT
TZOFFSETFROM:-0800
TZOFFSETTO:-0700
TZNAME:PDT
DTSTART:20240310T100000
END:DAYLIGHT
BEGIN:STANDARD
TZOFFSETFROM:-0700
TZOFFSETTO:-0800
TZNAME:PST
DTSTART:20241103T090000
END:STANDARD
BEGIN:DAYLIGHT
TZOFFSETFROM:-0800
TZOFFSETTO:-0700
TZNAME:PDT
DTSTART:20250309T100000
END:DAYLIGHT
BEGIN:STANDARD
TZOFFSETFROM:-0700
TZOFFSETTO:-0800
TZNAME:PST
DTSTART:20251102T090000
END:STANDARD
END:VTIMEZONE
BEGIN:VEVENT
DTSTART;TZID=America/Los_Angeles:20240912T120000
DTEND;TZID=America/Los_Angeles:20240912T130000
DTSTAMP:20260423T085120
CREATED:20240909T205253Z
LAST-MODIFIED:20240916T183153Z
UID:7062-1726142400-1726146000@lajollabarassociation.com
SUMMARY:Thursday\, September 12\, 2024 — MCLE Luncheon — Ariel J. Sabban\, Esq.
DESCRIPTION:ARIEL J. SABBAN will present “STRATEGIC LAWSUITS AGAINST PUBLIC PARTICIPATION (“SLAPP”)\,” in a program addressing SLAPP lawsuits\, which plaintiffs often use strategically to silence their critics through litigation\, and which abridge defendants’ constitutional rights of free speech and petition to government for redress of grievances.  These types of lawsuits are subject to special procedural treatment by Code of Civil Procedure § 425.16 (the “anti-SLAPP” statute)\, and Ariel’s presentation will explore the procedural mechanism and updated requirements for bringing successful anti-SLAPP motions in California. \nIf you have not attended a lunchtime program since our move to the Living Room Coffee House & Bistro\, please make it a point to do so. Our meeting room is separate from the main bistro area\, and we have better seating visibility and audibility at this new location.   \nWe hope that all of you can attend this 1.0 hr MCLE credit program. \nNote: While this will be an “in-person” presentation\, those of you unable to attend in-person may participate through Zoom meeting access with an advanced registration. \nMaterials for this week’s presentation are available to download\, click here. \n  \nSome Information about our Speaker:\nAriel J. Sabban\, Esq.\, is a long-time Member of the La Jolla Bar Association (a current Director; and Past President\, 2020).  He is a civil litigation practitioner who has been practicing law for 27 years with a focus on property law\, including both real property and intellectual property\, at the law firm of ARC IP Law\, PC.  During his years of practice\, Mr. Sabban has litigated numerous anti-SLAPP motions in both trial and appellate courts in California\, amassing an 85% success rate on such motions\, including numerous consequent appeals.  \nMr. Sabban is a graduate of Thomas Jefferson School of Law\, and is an East Coast transplant.  \nFor additional information on Ariel J. Sabban\, please link directly to our speaker’s web bio: Ariel Joseph Sabban – ARC IP Law \n  \n 
URL:https://lajollabarassociation.com/events/thursday-september-12-2024-mcle-luncheon-ariel-j-sabban-esq/
LOCATION:Living Room Coffeehouse & Bistro\, 1205 Prospect Street\, La Jolla\, CA\, 92037\, United States
CATEGORIES:Lunch,M.C.L.E.,Past,Zoom Video Online
ATTACH;FMTTYPE=image/png:https://lajollabarassociation.com/wp-content/uploads/2024/09/1724193744813blob.png
END:VEVENT
END:VCALENDAR