BEGIN:VCALENDAR
VERSION:2.0
PRODID:-//La Jolla Bar Association - ECPv6.15.20//NONSGML v1.0//EN
CALSCALE:GREGORIAN
METHOD:PUBLISH
X-WR-CALNAME:La Jolla Bar Association
X-ORIGINAL-URL:https://lajollabarassociation.com
X-WR-CALDESC:Events for La Jolla Bar Association
REFRESH-INTERVAL;VALUE=DURATION:PT1H
X-Robots-Tag:noindex
X-PUBLISHED-TTL:PT1H
BEGIN:VTIMEZONE
TZID:America/Los_Angeles
BEGIN:DAYLIGHT
TZOFFSETFROM:-0800
TZOFFSETTO:-0700
TZNAME:PDT
DTSTART:20230312T100000
END:DAYLIGHT
BEGIN:STANDARD
TZOFFSETFROM:-0700
TZOFFSETTO:-0800
TZNAME:PST
DTSTART:20231105T090000
END:STANDARD
BEGIN:DAYLIGHT
TZOFFSETFROM:-0800
TZOFFSETTO:-0700
TZNAME:PDT
DTSTART:20240310T100000
END:DAYLIGHT
BEGIN:STANDARD
TZOFFSETFROM:-0700
TZOFFSETTO:-0800
TZNAME:PST
DTSTART:20241103T090000
END:STANDARD
BEGIN:DAYLIGHT
TZOFFSETFROM:-0800
TZOFFSETTO:-0700
TZNAME:PDT
DTSTART:20250309T100000
END:DAYLIGHT
BEGIN:STANDARD
TZOFFSETFROM:-0700
TZOFFSETTO:-0800
TZNAME:PST
DTSTART:20251102T090000
END:STANDARD
END:VTIMEZONE
BEGIN:VEVENT
DTSTART;TZID=America/Los_Angeles:20240111T120000
DTEND;TZID=America/Los_Angeles:20240111T130000
DTSTAMP:20260423T223152
CREATED:20240103T201252Z
LAST-MODIFIED:20240122T192425Z
UID:6706-1704974400-1704978000@lajollabarassociation.com
SUMMARY:Thursday\, January 11\, 2024 — MCLE Luncheon via ZOOM — Michael McGowan
DESCRIPTION:We are very pleased to have as our initial speaker for 2024\, our own bar association member Michael McGowan\, presenting “Suing Goverment Entities in California: Traps for the Unwary.“ \nMike was Deputy City Attorney at the San Diego City Attorney’s Office for over 20 years\, where his practice  emphasis was civil litigation and administrative employment appeals\, and his practice areas were primarily employment law and government liability\, including evaluation and defense of personal injury and tort claims. He now provides service to lawyers and their clients through his own mediation firm\, emphasizing these same areas of law with which he was immersed when at the San Diego City Attorney’s Office (see: Home | Onpoint Mediation Se ). \nThis is certain to be an interesting and insightful program for all of our members\,  and addresses subject matter that our members have requested for some time.  We are very appreciative that Mike will share his knowledge\, expertise and insights with us about this important subject\, about which many lawyers are not familiar.   \nWe hope that all of you can attend this  1.0 hour MCLE credit program.
URL:https://lajollabarassociation.com/events/thursday-january-11-2024-mcle-luncheon-via-zoom-michael-mcgowan/
LOCATION:Hennessey’s Tavern Dining Room\, 7811 Herschel Avenue\, La Jolla\, CA\, 92037\, United States
CATEGORIES:Lunch,M.C.L.E.,Past,Zoom Video Online
ATTACH;FMTTYPE=image/png:https://lajollabarassociation.com/wp-content/uploads/2024/01/MichaelMcGowan.png
END:VEVENT
END:VCALENDAR