BEGIN:VCALENDAR
VERSION:2.0
PRODID:-//La Jolla Bar Association - ECPv6.15.20//NONSGML v1.0//EN
CALSCALE:GREGORIAN
METHOD:PUBLISH
X-WR-CALNAME:La Jolla Bar Association
X-ORIGINAL-URL:https://lajollabarassociation.com
X-WR-CALDESC:Events for La Jolla Bar Association
REFRESH-INTERVAL;VALUE=DURATION:PT1H
X-Robots-Tag:noindex
X-PUBLISHED-TTL:PT1H
BEGIN:VTIMEZONE
TZID:America/Los_Angeles
BEGIN:DAYLIGHT
TZOFFSETFROM:-0800
TZOFFSETTO:-0700
TZNAME:PDT
DTSTART:20220313T100000
END:DAYLIGHT
BEGIN:STANDARD
TZOFFSETFROM:-0700
TZOFFSETTO:-0800
TZNAME:PST
DTSTART:20221106T090000
END:STANDARD
BEGIN:DAYLIGHT
TZOFFSETFROM:-0800
TZOFFSETTO:-0700
TZNAME:PDT
DTSTART:20230312T100000
END:DAYLIGHT
BEGIN:STANDARD
TZOFFSETFROM:-0700
TZOFFSETTO:-0800
TZNAME:PST
DTSTART:20231105T090000
END:STANDARD
BEGIN:DAYLIGHT
TZOFFSETFROM:-0800
TZOFFSETTO:-0700
TZNAME:PDT
DTSTART:20240310T100000
END:DAYLIGHT
BEGIN:STANDARD
TZOFFSETFROM:-0700
TZOFFSETTO:-0800
TZNAME:PST
DTSTART:20241103T090000
END:STANDARD
END:VTIMEZONE
BEGIN:VEVENT
DTSTART;TZID=America/Los_Angeles:20230413T120000
DTEND;TZID=America/Los_Angeles:20230413T130000
DTSTAMP:20260424T133905
CREATED:20230404T224744Z
LAST-MODIFIED:20230706T173307Z
UID:5937-1681387200-1681390800@lajollabarassociation.com
SUMMARY:April 13\, 2023 — MCLE Luncheon via Zoom — Shanna E. Welsh-Levin
DESCRIPTION:We are very pleased to welcome as our speaker for this event:\n  \nShanna E. Welsh-Levin\nThursday\, March 9\, 2023\n12:00 pm via Zoom and In-Person:\nHennessey’s Tavern Dining Room\n7811 Herschel Avenue\, La Jolla\, CA 92037 \nWe are very pleased to have LJBA member\, Shanna E. Welsh-Levin\, as our speaker this month. Shanna will speak about California’s Housing Policies\, during which she will review how recent state and local laws aimed at increasing housing density will adversely impact multifamily landlords’ management of their properties. The discussion will address how these policies intended to help fix California’s housing crisis can backfire\, causing higher costs for both landlords and tenants. Included within the discussion will be multifamily properties\, Accessory Dwelling Units\, eviction laws\, and short term rental restrictions. \nWe hope that all of you can attend this 1.0 hour MCLE credit program. \n\nInformation About Our Speaker:\nShanna E. Welsh-Levin \nAttorney Shanna Welsh-Levin is the owner and Senior Attorney of So Cal Realty Law. She is a member of the State Bar of California\, and the San Diego County Bar Association. Mrs. Welsh-Levin is a California licensed real estate broker and an active member of the San Diego Association of REALTORS®. She has served on committees at SDAR and attended legislative functions as a representative of the association. She is also a member of the California Association of REALTORS® and regularly attends the C.A.R. Legal Affairs Forum. \nMrs. Welsh-Levin has twenty years of experience handling real estate legal matters including litigation\, trials\, mediation\, and transactions. She represents real estate investors and professionals to prepare joint venture agreements\, purchase and sale agreements\, leases\, and related contracts\, and to enforce those contracts through the court\, if necessary. \nDuring the recession and housing crisis from 2007 through 2014\, Mrs. Welsh-Levin participated in hundreds of HOME Clinics that took place throughout San Diego County\, Imperial County\, and Riverside County. The clinics were sponsored by the U.S. Department of Housing and Urban Development. In doing this\, she developed a deem understanding of mortgage lending and servicing. \nMrs. Welsh-Levin is confident litigating against big mortgage banks and servicers on behalf of California property owners. Mrs. Welsh was instrumental in passing California’s short sale anti-deficiency statute. Working with Senator Denise Ducheny’s office\, Ms. Welsh helped to introduce Senate Bill 931\, to protect consumers from their lenders when they are unable to pay off the balance of their mortgage loan. The bill created California Code of Civil Procedure §580e\, and made it mandatory for lenders to forgive the remaining balance of the mortgage debt when the borrower completes a short sale of their home. Mrs. Welsh-Levin has considerable knowledge regarding short sales\, foreclosures\, and loan modifications. \nMrs. Welsh-Levin holds the degree of Juris Doctor from California Western School of Law in San Diego\, California. She graduated magna cum laude from the University of Pittsburgh\, earning a Bachelor of Arts degree in Anthropology and Jazz Music. She worked as a professional jazz and pop musician and taught private saxophone lessons for many years. \n  \nContact Information:\nSo. Cal. Realty Law\, APC \n10601-G Tierrasanta Blvd.  #365\nSan Diego\, CA  92124 \nTel:  (619) 232-7325\nFax: (844) 525-4438 \nEmail:  swelsh@socalrealtylaw.com \n 
URL:https://lajollabarassociation.com/events/april-13-2023-mcle-luncheon-via-zoom-shanna-e-welsh-levin/
LOCATION:Hennessey’s Tavern Dining Room\, 7811 Herschel Avenue\, La Jolla\, CA\, 92037\, United States
CATEGORIES:Lunch,M.C.L.E.,Past,Zoom Video Online
ATTACH;FMTTYPE=image/jpeg:https://lajollabarassociation.com/wp-content/uploads/2023/04/LJBA-Levin-homepg.jpg
END:VEVENT
END:VCALENDAR