BEGIN:VCALENDAR
VERSION:2.0
PRODID:-//La Jolla Bar Association - ECPv6.15.20//NONSGML v1.0//EN
CALSCALE:GREGORIAN
METHOD:PUBLISH
X-ORIGINAL-URL:https://lajollabarassociation.com
X-WR-CALDESC:Events for La Jolla Bar Association
REFRESH-INTERVAL;VALUE=DURATION:PT1H
X-Robots-Tag:noindex
X-PUBLISHED-TTL:PT1H
BEGIN:VTIMEZONE
TZID:America/Los_Angeles
BEGIN:DAYLIGHT
TZOFFSETFROM:-0800
TZOFFSETTO:-0700
TZNAME:PDT
DTSTART:20240310T100000
END:DAYLIGHT
BEGIN:STANDARD
TZOFFSETFROM:-0700
TZOFFSETTO:-0800
TZNAME:PST
DTSTART:20241103T090000
END:STANDARD
BEGIN:DAYLIGHT
TZOFFSETFROM:-0800
TZOFFSETTO:-0700
TZNAME:PDT
DTSTART:20250309T100000
END:DAYLIGHT
BEGIN:STANDARD
TZOFFSETFROM:-0700
TZOFFSETTO:-0800
TZNAME:PST
DTSTART:20251102T090000
END:STANDARD
BEGIN:DAYLIGHT
TZOFFSETFROM:-0800
TZOFFSETTO:-0700
TZNAME:PDT
DTSTART:20260308T100000
END:DAYLIGHT
BEGIN:STANDARD
TZOFFSETFROM:-0700
TZOFFSETTO:-0800
TZNAME:PST
DTSTART:20261101T090000
END:STANDARD
END:VTIMEZONE
BEGIN:VEVENT
DTSTART;TZID=America/Los_Angeles:20250612T130000
DTEND;TZID=America/Los_Angeles:20250612T140000
DTSTAMP:20260419T182541
CREATED:20250605T195700Z
LAST-MODIFIED:20250724T012957Z
UID:7449-1749733200-1749736800@lajollabarassociation.com
SUMMARY:Thursday\, June 12\, 2025 — MCLE Luncheon — Maresa Talbert & Alex Marjanovic
DESCRIPTION:We are very pleased to have Maresa Talbert\, Founder & CEO of Talbert Law Office\, APC\,  and Alex Marjanovic\, Senior Managing Director\, Data & Technology for Ankura\, as our speakers for June\, presenting “THE NEW NORMAL: Artificial Intelligence and its Ethical Implications” to cover Artificial Intelligence (AI) and its applications in the practice of law; and the ethical implications of AI in the practice of law. \nThis presentation will provide participants 1.0 hour MCLE credit in the special area requirement of Technology in the Practice of Law. We hope that all of you will attend this program. \n  \nSome Information About Our Speakers\, Maresa Talbert and Alex Marjanovic:\n  \nMaresa Talbert\, Esq.\n\nFounder & C.E.O\nTalbert Law Office\, APC\n\nLegal support services to nonprofit organizations\, business entities\, and creators of I.P.\n\nInnovative legal solutions for multipreneurs\, social enterprises\, and multi-entity nonprofits.\nSan Diego\, CA | (619) 356-8056\nhttps://talbertlawoffice.com\nmaresa@talbertlawoffice.com\n  \nMaresa Talbert is the Founder and CEO of Talbert Law Office\, APC\, providing innovative legal solutions for multipreneurs\, social enterprises\, and multi-entity nonprofits. \nFeatured in the Association of Business Trial Lawyers Report and San Diego Lawyer Magazine\, Maresa has been named among the San Diego Power Players\, Top 100 Leaders in Law\, Top 50 Women of Influence in Law\, and a recurring Super Lawyers Rising Star for Intellectual Property. \nAn award-winning attorney\, legal strategist\, and thought leader\, Maresa combines sharp legal expertise with a deep commitment to justice and innovation. \nWith over a decade of military service as a Surface Warfare Officer\, including two deployment tours\, Maresa brings battle-tested leadership and legal strategies to boardrooms\, brand rooms\, and beyond. Licensed to practice in California and the District of Columbia\, she brings unmatched passion and expertise to every stage\, boardroom\, and community she serves. \n\n  \n\n\nAlex Marjanovic\, Esq.\nSenior Managing Director\nAnkura\, West Region\, U.S.\n\nLead Partner for Data & Technology\, Discovery practice\n\n1 Park Plaza\, Suite 1050\, Irvine\, CA 92614\n+1.949.660.8200 Main\n+1.949.579.2092 Direct\n+1.858.337.2957 Mobile\nalex.marjanovic@ankura.com\n\n  \nAlex Marjanovic is a Senior Managing Director at Ankura based in Irvine and is the West Region\, U.S. Lead Partner for the Data & Technology\, Discovery practice. With more than 19 years of e-discovery\, litigation management\, and document review experience\, Alex has overseen project management\, account management\, and business operations for e-discovery related matters. His core expertise is managing consultant teams and developing workflows that enable in-house and outside counsel to streamline data management\, e-discovery\, document review\, and production protocols. \nAlex’s professional experience includes the whole lifecycle of the Electronic Discovery Reference Model (EDRM)\, from delivering proactive assistance in relation to information governance and discovery readiness consulting to preservation\, processing\, and review of data for production purposes. Alex has guided and overseen e-discovery engagements on a variety of matters ranging from internal investigations tied to data exfiltration to “bet-the-company” government investigations. \nAlex has extensive experience in navigating clients’ budgetary requirements and advising on workflows that adhere to proportionality. He knows that one of the most complex challenges for a company in litigation is monitoring expenses tied to e-discovery and that predictability is achieved by leveraging appropriate technologies and workflows and implementing a phased approach to each milestone for managed e-discovery matters. \nAs part of the leadership team for the Ankura Data & Technology practice\, Alex leads account management\, business development\, project management\, sales operations\, and thought leadership endeavors. He supports litigation readiness\, early case assessment\, structured data expert services\, forensic collection and analysis for investigations and lawsuits\, electronically stored information processing\, database hosting\, and technology assisted review. \nPrior to joining Ankura\, Alex was a managing partner at a business services firm in their e-discovery and managed review division for seven years where he managed regional project management\, business development executives\, sales operations\, and customer service teams. These teams’ core services included information governance\, early case assessment\, hosted review\, and technology-assisted review. \nCertified legal education programs that Alex has presented recently include: \n\nA Practical Guide to Efficiency in E-discovery\nSaas & E-Discovery – Navigating the Challenges of Emerging Data Sources\nEthical Issues in Electronic Discovery\nElectronic Discovery Issues in Cross-Border and Multilanguage Litigation\nEthical Issues in Defensible Disposition\n\n\n  \n 
URL:https://lajollabarassociation.com/events/thursday-june-12-2025-mcle-luncheon-maresa-talbert-alex-marjanovic/
LOCATION:Living Room Coffeehouse & Bistro\, 1205 Prospect Street\, La Jolla\, CA\, 92037\, United States
CATEGORIES:Lunch,M.C.L.E.,Past
ATTACH;FMTTYPE=image/png:https://lajollabarassociation.com/wp-content/uploads/2025/06/LJBA-MCLE-June2025.png
END:VEVENT
END:VCALENDAR