BEGIN:VCALENDAR
VERSION:2.0
PRODID:-//La Jolla Bar Association - ECPv6.15.20//NONSGML v1.0//EN
CALSCALE:GREGORIAN
METHOD:PUBLISH
X-WR-CALNAME:La Jolla Bar Association
X-ORIGINAL-URL:https://lajollabarassociation.com
X-WR-CALDESC:Events for La Jolla Bar Association
REFRESH-INTERVAL;VALUE=DURATION:PT1H
X-Robots-Tag:noindex
X-PUBLISHED-TTL:PT1H
BEGIN:VTIMEZONE
TZID:America/Los_Angeles
BEGIN:DAYLIGHT
TZOFFSETFROM:-0800
TZOFFSETTO:-0700
TZNAME:PDT
DTSTART:20240310T100000
END:DAYLIGHT
BEGIN:STANDARD
TZOFFSETFROM:-0700
TZOFFSETTO:-0800
TZNAME:PST
DTSTART:20241103T090000
END:STANDARD
BEGIN:DAYLIGHT
TZOFFSETFROM:-0800
TZOFFSETTO:-0700
TZNAME:PDT
DTSTART:20250309T100000
END:DAYLIGHT
BEGIN:STANDARD
TZOFFSETFROM:-0700
TZOFFSETTO:-0800
TZNAME:PST
DTSTART:20251102T090000
END:STANDARD
BEGIN:DAYLIGHT
TZOFFSETFROM:-0800
TZOFFSETTO:-0700
TZNAME:PDT
DTSTART:20260308T100000
END:DAYLIGHT
BEGIN:STANDARD
TZOFFSETFROM:-0700
TZOFFSETTO:-0800
TZNAME:PST
DTSTART:20261101T090000
END:STANDARD
END:VTIMEZONE
BEGIN:VEVENT
DTSTART;TZID=America/Los_Angeles:20250508T130000
DTEND;TZID=America/Los_Angeles:20250508T140000
DTSTAMP:20260419T165329
CREATED:20250423T000930Z
LAST-MODIFIED:20250630T184737Z
UID:7404-1746709200-1746712800@lajollabarassociation.com
SUMMARY:Thursday\, May 8\, 2025 — MCLE Luncheon — Joann Rezzo & John Edwards
DESCRIPTION:We are very pleased to have as our speakers for this lunchtime program\, Joann Rezzo and John C. Edwards\, both of whom have extensive experience\, and widespread recognition\, as mediators and ADR neutrals\, and who together possess over 65 years of litigation and trial experience as practicing attorneys. \nJoann and John will jointly present the program: “ Rethinking Bias in Mediation and Litigation – Yours and Theirs\,” to include discussion of implicit bias in the practice of law\, including certain types of implicit bias; the adverse impact of these biases on the services we provide clients; and strategies to reduce or eliminate such biases. While the presentation is oriented toward litigation and Alternate Dispute Resolution settings\, the subject matter is applicable to most situations in which attorneys provide services to their clients. \nThis presentation will provide 1.0 hour MCLE credit in the special area of Implicit Bias – recognition and bias-reducing strategies. Both of our speakers have a wealth of practical knowledge and insight on this subject to share\, so we hope that all of you will attend this program. \n  \nSome Information About Our Speakers\, Joann Rezzo and John C. Edwards:\n  \nJoann Rizzo\, Esq.\nMediator\nJoann Rezzo is a mediator with Signature Resolution. She brings nearly 30 years of litigation and trial experience and a dynamic\, high-energy personality to each mediation she handles. Because her litigation career was split evenly between representing defendants and plaintiffs\, Joann is known for her balanced approach. She understands each side’s unique perspective and knows how to unite parties to achieve a resolution. \n\n\nJoann brings the same level of preparation to each of her mediations as she did for each of the cases she handled as a litigator\, often preparing her own detailed chronologies weaving together facts and evidence from each side. Joann mediates cases venued throughout California and beyond.\n\nJoann was a founding partner at Edleson & Rezzo from 2003 to 2022 and an attorney with DLA Piper (formerly Gray Cary Ware & Friedenrich) from 1996 to 2003. She has won multi-million-dollar verdicts for blue collar workers and small business owners and defense verdicts representing Fortune 500 clients like Southwest Airlines\, Aventis Pharmaceuticals\, John Hancock Insurance and Barr Laboratories.\n\nJoann obtained her bachelor’s degree in political science from the University of San Diego in 1993\, graduating summa cum laude and earned her juris doctorate from USC School of Law in 1996.\n\n  \nDownload Joann Rizzo’s CV\n\n \n  \n\n\nJohn C. Edwards\, Esq.\nADR Neutral\nJohn Edwards is a nationally recognized speaker and mediation trainer. An AV-rated trial lawyer for many years\, John became a full-time neutral in 2014 and mediates cases throughout California. During John’s mediation training at Harvard Law School\, he was introduced to interest-based negotiating as articulated in “Getting to Yes” by Roger Fisher and William Ury. Subsequently\, he trained under Bill Eddy of the High Conflict Institute and now frequently lectures at seminars and law schools on effective negotiation strategies with high conflict personalities. \n\nJohn has a deep and enduring interest in the empirical study of decision making and bargaining as found in the work of Nobel Laureate Daniel Kahneman\, whose groundbreaking work with Amos Tversky taught us about cognitive bias\, anchoring\, bargaining\, and undid our assumptions about the decision-making process. Their papers showed how the human mind makes systematic errors when making decisions in uncertain situations. A mediator who understands this may be able to provide invaluable assistance in helping decision makers in our very uncertain world\, without being coercive or judgmental in the process. \nJohn is often engaged to mediate challenging matters in which the legal issues are not driving the dispute\, but the personalities are the issue. Lawyers are often frustrated because their analytical and persuasive legal skills are often ineffective with high conflict people. John’s years of training and experience have helped him achieve successful results when legal analysis and vigorous advocacy have failed to achieve settlement. John believes it is most important to treat everyone\, even the most difficult person\, with empathy\, attention and respect. John practices polite persistence without coercion and is committed to follow through when cases do not settle at the first session. \nJohn is proficient in conducting mediations using Zoom and other virtual platforms and offers complimentary test sessions with participants to make sure that everyone is comfortable with\nthe process. \n\nDownload John C. Edwards’ CV \n\n  \n 
URL:https://lajollabarassociation.com/events/thursday-may-8-2025-mcle-luncheon-joann-rezzo-john-edwards/
LOCATION:Living Room Coffeehouse & Bistro\, 1205 Prospect Street\, La Jolla\, CA\, 92037\, United States
CATEGORIES:Lunch,M.C.L.E.,Past
ATTACH;FMTTYPE=image/png:https://lajollabarassociation.com/wp-content/uploads/2025/04/MLCE-April-Speakers.png
END:VEVENT
END:VCALENDAR