BEGIN:VCALENDAR
VERSION:2.0
PRODID:-//La Jolla Bar Association - ECPv6.15.20//NONSGML v1.0//EN
CALSCALE:GREGORIAN
METHOD:PUBLISH
X-WR-CALNAME:La Jolla Bar Association
X-ORIGINAL-URL:https://lajollabarassociation.com
X-WR-CALDESC:Events for La Jolla Bar Association
REFRESH-INTERVAL;VALUE=DURATION:PT1H
X-Robots-Tag:noindex
X-PUBLISHED-TTL:PT1H
BEGIN:VTIMEZONE
TZID:America/Los_Angeles
BEGIN:DAYLIGHT
TZOFFSETFROM:-0800
TZOFFSETTO:-0700
TZNAME:PDT
DTSTART:20240310T100000
END:DAYLIGHT
BEGIN:STANDARD
TZOFFSETFROM:-0700
TZOFFSETTO:-0800
TZNAME:PST
DTSTART:20241103T090000
END:STANDARD
BEGIN:DAYLIGHT
TZOFFSETFROM:-0800
TZOFFSETTO:-0700
TZNAME:PDT
DTSTART:20250309T100000
END:DAYLIGHT
BEGIN:STANDARD
TZOFFSETFROM:-0700
TZOFFSETTO:-0800
TZNAME:PST
DTSTART:20251102T090000
END:STANDARD
BEGIN:DAYLIGHT
TZOFFSETFROM:-0800
TZOFFSETTO:-0700
TZNAME:PDT
DTSTART:20260308T100000
END:DAYLIGHT
BEGIN:STANDARD
TZOFFSETFROM:-0700
TZOFFSETTO:-0800
TZNAME:PST
DTSTART:20261101T090000
END:STANDARD
END:VTIMEZONE
BEGIN:VEVENT
DTSTART;TZID=America/Los_Angeles:20250410T120000
DTEND;TZID=America/Los_Angeles:20250410T130000
DTSTAMP:20260419T151726
CREATED:20250331T173900Z
LAST-MODIFIED:20250630T184727Z
UID:7387-1744286400-1744290000@lajollabarassociation.com
SUMMARY:Thursday\, April 10\, 2025 — MCLE Luncheon — Robert A. Schapiro
DESCRIPTION:We are very pleased to have Robert A. Schapiro\, Dean and C. Hugh Friedman Professor of Law at the University of San Diego School of Law\, as our speaker for this event\,  presenting: “Constitutional Crisis or Continuity?:  United States Supreme Court Review and Update” to include discussion of: Historic decisions of the 2023-2024 Supreme Court Term and upcoming cases with potentially broad impact relating to presidential power\, abortion\, LGBTQ+ rights\, and gun regulation\, among other topics. \nThis most topical presentation will provide  1.0 hour MCLE credit for participants. \nWe greatly appreciate Dean Schapiro’s willingness to again share his knowledge and expertise with our lawyers’ group\, and hope that all of you will attend this program. \n  \nSome Information About Our Speaker:\nROBERT A. SCHAPIRO\nDean and C. Hugh Friedman Professor of Law\nUniversity of San Diego School of Law\n  \nRobert A. Schapiro is Dean and C. Hugh Friedman Professor of Law at the University of San Diego School of Law.  He obtained a B.A. from Yale College\, M.A. from Stanford University\, and J.D. from Yale Law School\, where he served as editor-in-chief of the Yale Law Journal.  Schapiro clerked for Justice John Paul Stevens of the U.S. Supreme Court and for Judge Pierre N. Leval of the U.S. District Court for the Southern District of New York.\n\nPrior to becoming Dean at the USD School of Law in 2021\, Schapiro was a faculty member at Emory University School of Law.  At Emory\, he served as Dean and Asa Griggs Candler Professor of Law and Co-Director of the Center on Federalism and Intersystemic Governance. He had previously held positions as associate vice provost for academic affairs\, associate dean of faculty for the law school\, and as associate faculty director for Emory’s Halle Institute for Global Learning.\n\nSchapiro received the 2023 Witkin Award for Excellence in Legal Education from the San Diego Library Foundation.  While at Emory\, Schapiro received several awards\, including the Emory Williams Distinguished Teaching Award for excellence in graduate education\, the Ben F. Johnson Faculty Excellence Award\, Most Outstanding Professor from the Emory Student Bar Association\, and Professor of the Year from the Emory Law School Black Law Students Association.\n\nSchapiro’s scholarship focuses on federalism and state and federal constitutional law. His most recent scholarly works include The Unconstitutional Conditions Vacuum in Criminal Procedure\, Yale Law Journal  (2024) (with Kay Levine & Jonathan Remy Nash)\, Protecting State Constitutional Rights from Unconstitutional Conditions\, U.C. Davis Law Review (2022) (with Kay Levine & Jonathan Remy Nash)\, and States of Inequality: Fiscal Federalism\, Unequal States\, and Unequal People\, California Law Review (2020).  His book\, Polyphonic Federalism: Toward the Protection of Fundamental Rights\, was published by the University of Chicago Press in 2009.\n  \nContact Information \n\nRobert A. Schapiro\nrschapiro@sandiego.edu \n\n\nUniversity of San Diego School of Law\n5998 Alcalá Park\nWarren Hall – 200A\nSan Diego\, California  92110-2492 \n\n\n\nAssistant: Isela Gordon\nigordon@SanDiego.edu
URL:https://lajollabarassociation.com/events/thursday-april-10-2025-mcle-luncheon-robert-a-schapiro/
LOCATION:Living Room Coffeehouse & Bistro\, 1205 Prospect Street\, La Jolla\, CA\, 92037\, United States
CATEGORIES:Lunch,M.C.L.E.,Past,Zoom Video Online
ATTACH;FMTTYPE=image/png:https://lajollabarassociation.com/wp-content/uploads/2025/03/USD_Dean_Schapiro_003-Edit-e1743443896504.png
END:VEVENT
END:VCALENDAR