BEGIN:VCALENDAR
VERSION:2.0
PRODID:-//La Jolla Bar Association - ECPv6.15.20//NONSGML v1.0//EN
CALSCALE:GREGORIAN
METHOD:PUBLISH
X-ORIGINAL-URL:https://lajollabarassociation.com
X-WR-CALDESC:Events for La Jolla Bar Association
REFRESH-INTERVAL;VALUE=DURATION:PT1H
X-Robots-Tag:noindex
X-PUBLISHED-TTL:PT1H
BEGIN:VTIMEZONE
TZID:America/Los_Angeles
BEGIN:DAYLIGHT
TZOFFSETFROM:-0800
TZOFFSETTO:-0700
TZNAME:PDT
DTSTART:20220313T100000
END:DAYLIGHT
BEGIN:STANDARD
TZOFFSETFROM:-0700
TZOFFSETTO:-0800
TZNAME:PST
DTSTART:20221106T090000
END:STANDARD
BEGIN:DAYLIGHT
TZOFFSETFROM:-0800
TZOFFSETTO:-0700
TZNAME:PDT
DTSTART:20230312T100000
END:DAYLIGHT
BEGIN:STANDARD
TZOFFSETFROM:-0700
TZOFFSETTO:-0800
TZNAME:PST
DTSTART:20231105T090000
END:STANDARD
BEGIN:DAYLIGHT
TZOFFSETFROM:-0800
TZOFFSETTO:-0700
TZNAME:PDT
DTSTART:20240310T100000
END:DAYLIGHT
BEGIN:STANDARD
TZOFFSETFROM:-0700
TZOFFSETTO:-0800
TZNAME:PST
DTSTART:20241103T090000
END:STANDARD
END:VTIMEZONE
BEGIN:VEVENT
DTSTART;TZID=America/Los_Angeles:20230713T120000
DTEND;TZID=America/Los_Angeles:20230713T130000
DTSTAMP:20260424T071512
CREATED:20230706T163932Z
LAST-MODIFIED:20230728T173623Z
UID:6345-1689249600-1689253200@lajollabarassociation.com
SUMMARY:July 13\, 2023 — MCLE Luncheon via Zoom — Paul H. Neuharth\, Jr.
DESCRIPTION:We are very pleased to have as the July speaker\, PAUL H. NEUHARTH\, JR.\, a past President and current Director of our bar association\, presenting “THE FIRST 72 HOURS AFTER ARREST – what all attorneys will want to know to tell family and friends when you get a call in the middle of the night.“\n \nA well known and highly respected member of the California Criminal Defense Bar\, with dual expertise in criminal and  administrative law proceedings and hearings\, Paul will share with us his knowledge and insights gained from 34 years as an attorney representing clients in criminal and administrative cases\, hearings and trials\, and from his 7 years as a California State Law Enforcement Officer (while concurrently earning undergraduate and juris doctorate degrees).\n\n\n\nThis is certain to be an interesting and insightful program for all of our members\, regardless of practice area\, as any of us could at some time receive that life altering telephone call from a client\, friend or family member.\n\n\n  \nWe hope that all of you can attend this 1.0 hr MCLE program. \n 
URL:https://lajollabarassociation.com/events/july-13-2023-mcle-luncheon-via-zoom-paul-h-neuharth-jr/
LOCATION:Hennessey’s Tavern Dining Room\, 7811 Herschel Avenue\, La Jolla\, CA\, 92037\, United States
CATEGORIES:Lunch,M.C.L.E.,Past,Zoom Video Online
ATTACH;FMTTYPE=image/jpeg:https://lajollabarassociation.com/wp-content/uploads/2016/06/P-Neuharth.jpg
END:VEVENT
END:VCALENDAR