BEGIN:VCALENDAR
VERSION:2.0
PRODID:-//La Jolla Bar Association - ECPv6.15.20//NONSGML v1.0//EN
CALSCALE:GREGORIAN
METHOD:PUBLISH
X-WR-CALNAME:La Jolla Bar Association
X-ORIGINAL-URL:https://lajollabarassociation.com
X-WR-CALDESC:Events for La Jolla Bar Association
REFRESH-INTERVAL;VALUE=DURATION:PT1H
X-Robots-Tag:noindex
X-PUBLISHED-TTL:PT1H
BEGIN:VTIMEZONE
TZID:America/Los_Angeles
BEGIN:DAYLIGHT
TZOFFSETFROM:-0800
TZOFFSETTO:-0700
TZNAME:PDT
DTSTART:20220313T100000
END:DAYLIGHT
BEGIN:STANDARD
TZOFFSETFROM:-0700
TZOFFSETTO:-0800
TZNAME:PST
DTSTART:20221106T090000
END:STANDARD
BEGIN:DAYLIGHT
TZOFFSETFROM:-0800
TZOFFSETTO:-0700
TZNAME:PDT
DTSTART:20230312T100000
END:DAYLIGHT
BEGIN:STANDARD
TZOFFSETFROM:-0700
TZOFFSETTO:-0800
TZNAME:PST
DTSTART:20231105T090000
END:STANDARD
BEGIN:DAYLIGHT
TZOFFSETFROM:-0800
TZOFFSETTO:-0700
TZNAME:PDT
DTSTART:20240310T100000
END:DAYLIGHT
BEGIN:STANDARD
TZOFFSETFROM:-0700
TZOFFSETTO:-0800
TZNAME:PST
DTSTART:20241103T090000
END:STANDARD
END:VTIMEZONE
BEGIN:VEVENT
DTSTART;TZID=America/Los_Angeles:20230511T120000
DTEND;TZID=America/Los_Angeles:20230511T130000
DTSTAMP:20260424T103907
CREATED:20230509T230937Z
LAST-MODIFIED:20230706T173238Z
UID:5948-1683806400-1683810000@lajollabarassociation.com
SUMMARY:May 11\, 2023 — MCLE Luncheon via Zoom — Deborah A. Wolfe
DESCRIPTION:We are very pleased to have as our May speaker\, civil trial attorney DEBORAH A. WOLFE\, Wolfe Legal Solutions PC\, who will present a LEGAL ETHICS UPDATE to our members.  Ms. Wolfe\, a Certified Legal Specialist (“CLS”) in both Legal Malpractice Law (State Bar of California)\, and Civil Trial Law (National Board of Trial Advocates)\, will discuss the State Bar’s new trust accounting CTAPP requirements\, as well as conflicts of interest.    \nWe hope that all of you can attend this 1.0 hr ETHICS MCLE program. \n\n 
URL:https://lajollabarassociation.com/events/5948/
LOCATION:Hennessey’s Tavern Dining Room\, 7811 Herschel Avenue\, La Jolla\, CA\, 92037\, United States
CATEGORIES:Lunch,M.C.L.E.,Meeting,Past,Zoom Video Online
ATTACH;FMTTYPE=image/png:https://lajollabarassociation.com/wp-content/uploads/2023/05/DeborahAWolfe.png
END:VEVENT
END:VCALENDAR