BEGIN:VCALENDAR
VERSION:2.0
PRODID:-//La Jolla Bar Association - ECPv6.15.20//NONSGML v1.0//EN
CALSCALE:GREGORIAN
METHOD:PUBLISH
X-WR-CALNAME:La Jolla Bar Association
X-ORIGINAL-URL:https://lajollabarassociation.com
X-WR-CALDESC:Events for La Jolla Bar Association
REFRESH-INTERVAL;VALUE=DURATION:PT1H
X-Robots-Tag:noindex
X-PUBLISHED-TTL:PT1H
BEGIN:VTIMEZONE
TZID:America/Los_Angeles
BEGIN:DAYLIGHT
TZOFFSETFROM:-0800
TZOFFSETTO:-0700
TZNAME:PDT
DTSTART:20240310T100000
END:DAYLIGHT
BEGIN:STANDARD
TZOFFSETFROM:-0700
TZOFFSETTO:-0800
TZNAME:PST
DTSTART:20241103T090000
END:STANDARD
BEGIN:DAYLIGHT
TZOFFSETFROM:-0800
TZOFFSETTO:-0700
TZNAME:PDT
DTSTART:20250309T100000
END:DAYLIGHT
BEGIN:STANDARD
TZOFFSETFROM:-0700
TZOFFSETTO:-0800
TZNAME:PST
DTSTART:20251102T090000
END:STANDARD
BEGIN:DAYLIGHT
TZOFFSETFROM:-0800
TZOFFSETTO:-0700
TZNAME:PDT
DTSTART:20260308T100000
END:DAYLIGHT
BEGIN:STANDARD
TZOFFSETFROM:-0700
TZOFFSETTO:-0800
TZNAME:PST
DTSTART:20261101T090000
END:STANDARD
END:VTIMEZONE
BEGIN:VEVENT
DTSTART;TZID=America/Los_Angeles:20251214T170000
DTEND;TZID=America/Los_Angeles:20251214T200000
DTSTAMP:20260419T225831
CREATED:20251120T213806Z
LAST-MODIFIED:20251120T213806Z
UID:7634-1765731600-1765742400@lajollabarassociation.com
SUMMARY:December 2025 Winter Holiday Party
DESCRIPTION:The La Jolla Bar Association cordially invites its members and member’s guest to the Annual December Winter Holiday Party\, during which the Annual Meeting of Members\, and the Election of Officers & Directors for 2026 will be held. \nPlease join us and enjoy delicious hors d’oeuvres\, festivity\, good company & merriment with a combination open and cash bar. \nDATE: SUNDAY\, DECEMBER 14\, 2025\nTIME: 5:00 TO 8:00 PM\nLOCATION: This is a private event—location has been provided to members via email \n  \nPlease RSVP for yourself and your guest to Becki Clarke\, by 5:00 pm on Wednesday\, December 10th\, to: bc@lynchlitigation.com. Please include both your name\, and that of your guest in the RSVP. \nQuestions about the event? Please contact Social Committee Chair\, Jennifer Lynch\, by email at: jl@lynchlitigation.com \n  \n* Contributions toward the cost of this year’s Holiday Party have been made by one or more law firms\, and by individuals\, enabling a portion of our event funds to be allocated toward cost of libations for our members and guests. When the allocation is exhausted\, the bar will convert from an Open Bar to a Cash “No Host” Bar.
URL:https://lajollabarassociation.com/events/december-2025-winter-holiday-party/
LOCATION:Private Venue\, La Jolla\, CA\, 92037\, United States
CATEGORIES:Meeting,Social Gathering
ATTACH;FMTTYPE=image/png:https://lajollabarassociation.com/wp-content/uploads/2023/11/LJBA-HolidayParty2023-e1699989225281.png
END:VEVENT
END:VCALENDAR